BEGIN:VCALENDAR
VERSION:2.0
METHOD:PUBLISH
BEGIN:VEVENT
DTSTAMP:20260423T154357Z
DTSTART:20231216T200000Z
DTEND:20231216T200000Z
SUMMARY:‘Visions of Christmas’ : Carol Singalong 
LOCATION:Emmanuel Anglican Church, 287 Harrington St, Arnprior
END:VEVENT
END:VCALENDAR
