BEGIN:VCALENDAR
VERSION:2.0
METHOD:PUBLISH
BEGIN:VEVENT
DTSTAMP:20260421T094724Z
DTSTART:20241018T220000Z
DTEND:20241019T000000Z
SUMMARY:Youth Night 
LOCATION:77 James Street
END:VEVENT
END:VCALENDAR
