BEGIN:VCALENDAR
VERSION:2.0
METHOD:PUBLISH
BEGIN:VEVENT
DTSTAMP:20260421T111558Z
DTSTART:20241025T220000Z
DTEND:20241026T000000Z
SUMMARY:Youth Night 
LOCATION:77 James Street
END:VEVENT
END:VCALENDAR
