BEGIN:VCALENDAR
VERSION:2.0
METHOD:PUBLISH
BEGIN:VEVENT
DTSTAMP:20260421T124647Z
DTSTART:20241101T220000Z
DTEND:20241102T000000Z
SUMMARY:Youth Night 
LOCATION:77 James Street
END:VEVENT
END:VCALENDAR
