BEGIN:VCALENDAR
VERSION:2.0
METHOD:PUBLISH
BEGIN:VEVENT
DTSTAMP:20260421T082732Z
DTSTART:20250701T170000Z
DTEND:20250701T200000Z
SUMMARY:Galilee Centre Strawberry Social
LOCATION:398 John Street North
END:VEVENT
END:VCALENDAR
