BEGIN:VCALENDAR
VERSION:2.0
METHOD:PUBLISH
BEGIN:VEVENT
DTSTAMP:20260422T134953Z
DTSTART:20260401T160000Z
DTEND:20260401T180000Z
SUMMARY:The Lunch Bunch by Seniors at Home
LOCATION:49 Daniel St N,
END:VEVENT
END:VCALENDAR
