BEGIN:VCALENDAR
VERSION:2.0
METHOD:PUBLISH
BEGIN:VEVENT
DTSTAMP:20260422T125423Z
DTSTART:20260404T160000Z
DTEND:20260404T180000Z
SUMMARY:The Bunny Run 2026
LOCATION:400 John St N
END:VEVENT
END:VCALENDAR
