BEGIN:VCALENDAR
VERSION:2.0
METHOD:PUBLISH
BEGIN:VEVENT
DTSTAMP:20260422T111706Z
DTSTART:20260404T180000Z
DTEND:20260404T200000Z
SUMMARY:Iranian Egg Painting
LOCATION:Arnprior Museum 35 Madawaska Street
END:VEVENT
END:VCALENDAR
