BEGIN:VCALENDAR
VERSION:2.0
METHOD:PUBLISH
BEGIN:VEVENT
DTSTAMP:20260422T134818Z
DTSTART:20260410T220000Z
DTEND:20260411T020000Z
SUMMARY:Music Trivia Night 
LOCATION:49 Daniel St N
END:VEVENT
END:VCALENDAR
