BEGIN:VCALENDAR
VERSION:2.0
METHOD:PUBLISH
BEGIN:VEVENT
DTSTAMP:20260422T135133Z
DTSTART:20260415T210000Z
DTEND:20260415T230000Z
SUMMARY:Diners' Club by Seniors at Home
LOCATION:54 Elgin St W
END:VEVENT
END:VCALENDAR
