BEGIN:VCALENDAR
VERSION:2.0
METHOD:PUBLISH
BEGIN:VEVENT
DTSTAMP:20260423T050456Z
DTSTART:20260517T170000Z
DTEND:20260517T190000Z
SUMMARY:Fibre Art Workshops
LOCATION:Arnprior Museum 35 Madawaska Street
END:VEVENT
END:VCALENDAR
