BEGIN:VCALENDAR
VERSION:2.0
METHOD:PUBLISH
BEGIN:VEVENT
DTSTAMP:20260424T232315Z
DTSTART:20231127T233000Z
DTEND:20231128T030000Z
SUMMARY:Regular Meeting of Council
LOCATION:Council Chambers
END:VEVENT
END:VCALENDAR
