BEGIN:VCALENDAR
VERSION:2.0
METHOD:PUBLISH
BEGIN:VEVENT
DTSTAMP:20260425T204807Z
DTSTART:20240415T223000Z
DTEND:20240416T010000Z
SUMMARY:Environmental Advisory Committee
LOCATION:Council Chambers
END:VEVENT
END:VCALENDAR
