BEGIN:VCALENDAR
VERSION:2.0
METHOD:PUBLISH
BEGIN:VEVENT
DTSTAMP:20260425T024309Z
DTSTART:20260504T210000Z
DTEND:20260504T220000Z
SUMMARY:Business License Appeals Committee Meeting
LOCATION:Council Chambers - Town Hall (105 Elgin Street West, Arnprior, ON K7S 0A8)
END:VEVENT
END:VCALENDAR
