BEGIN:VCALENDAR
VERSION:2.0
METHOD:PUBLISH
BEGIN:VEVENT
DTSTAMP:20260420T083250Z
DTSTART:20261116T233000Z
DTEND:20261117T030000Z
SUMMARY:Inaugural Meeting of Council
LOCATION:Nick Smith Centre, 77 James St, Arnprior, ON K7S 1C9
END:VEVENT
END:VCALENDAR
